BEGIN:VCALENDAR
VERSION:2.0
PRODID:-//Windsor Leagues Club - ECPv6.15.16.1//NONSGML v1.0//EN
CALSCALE:GREGORIAN
METHOD:PUBLISH
X-WR-CALNAME:Windsor Leagues Club
X-ORIGINAL-URL:https://www.windsorleagues.com.au
X-WR-CALDESC:Events for Windsor Leagues Club
REFRESH-INTERVAL;VALUE=DURATION:PT1H
X-Robots-Tag:noindex
X-PUBLISHED-TTL:PT1H
BEGIN:VTIMEZONE
TZID:UTC
BEGIN:STANDARD
TZOFFSETFROM:+0000
TZOFFSETTO:+0000
TZNAME:UTC
DTSTART:20250101T000000
END:STANDARD
END:VTIMEZONE
BEGIN:VEVENT
DTSTART;VALUE=DATE:20260421
DTEND;VALUE=DATE:20260422
DTSTAMP:20260421T075716
CREATED:20260318T001200Z
LAST-MODIFIED:20260318T001213Z
UID:10000352-1776729600-1776815999@www.windsorleagues.com.au
SUMMARY:Hey\, Hey\, Its Tuesday Hosted by Peter Paki
DESCRIPTION:
URL:https://www.windsorleagues.com.au/event/hey-hey-its-tuesday-hosted-by-peter-paki/
CATEGORIES:Entertainment
END:VEVENT
END:VCALENDAR