BEGIN:VCALENDAR
VERSION:2.0
PRODID:-//Windsor Leagues Club - ECPv6.15.16.1//NONSGML v1.0//EN
CALSCALE:GREGORIAN
METHOD:PUBLISH
X-ORIGINAL-URL:https://www.windsorleagues.com.au
X-WR-CALDESC:Events for Windsor Leagues Club
REFRESH-INTERVAL;VALUE=DURATION:PT1H
X-Robots-Tag:noindex
X-PUBLISHED-TTL:PT1H
BEGIN:VTIMEZONE
TZID:UTC
BEGIN:STANDARD
TZOFFSETFROM:+0000
TZOFFSETTO:+0000
TZNAME:UTC
DTSTART:20240101T000000
END:STANDARD
END:VTIMEZONE
BEGIN:VEVENT
DTSTART;TZID=UTC:20251101T200000
DTEND;TZID=UTC:20251101T200000
DTSTAMP:20260424T081609
CREATED:20251008T021118Z
LAST-MODIFIED:20251008T021118Z
UID:10000323-1762027200-1762027200@www.windsorleagues.com.au
SUMMARY:Show Pony Duo
DESCRIPTION:From 8pm – FREE
URL:https://www.windsorleagues.com.au/event/show-pony-duo/
CATEGORIES:Entertainment
END:VEVENT
BEGIN:VEVENT
DTSTART;TZID=UTC:20251104T113000
DTEND;TZID=UTC:20251104T150000
DTSTAMP:20260424T081609
CREATED:20251022T025832Z
LAST-MODIFIED:20251022T025854Z
UID:10000336-1762255800-1762268400@www.windsorleagues.com.au
SUMMARY:Melbourne Cup Day
DESCRIPTION:
URL:https://www.windsorleagues.com.au/event/melbourne-cup-day/
CATEGORIES:Entertainment
END:VEVENT
BEGIN:VEVENT
DTSTART;TZID=UTC:20251108T200000
DTEND;TZID=UTC:20251108T200000
DTSTAMP:20260424T081609
CREATED:20251008T021146Z
LAST-MODIFIED:20251008T021146Z
UID:10000324-1762632000-1762632000@www.windsorleagues.com.au
SUMMARY:Weekend Juliet Duo
DESCRIPTION:From 8pm – FREE
URL:https://www.windsorleagues.com.au/event/weekend-juliet-duo-2/
CATEGORIES:Entertainment
END:VEVENT
BEGIN:VEVENT
DTSTART;TZID=UTC:20251115T200000
DTEND;TZID=UTC:20251115T200000
DTSTAMP:20260424T081609
CREATED:20251008T021213Z
LAST-MODIFIED:20251008T021213Z
UID:10000325-1763236800-1763236800@www.windsorleagues.com.au
SUMMARY:Mule Train
DESCRIPTION:From 8pm – FREE
URL:https://www.windsorleagues.com.au/event/mule-train/
CATEGORIES:Entertainment
END:VEVENT
BEGIN:VEVENT
DTSTART;TZID=UTC:20251122T200000
DTEND;TZID=UTC:20251122T200000
DTSTAMP:20260424T081609
CREATED:20251008T021321Z
LAST-MODIFIED:20251008T021321Z
UID:10000327-1763841600-1763841600@www.windsorleagues.com.au
SUMMARY:Rocker Covers Duo
DESCRIPTION:From 8pm – FREE
URL:https://www.windsorleagues.com.au/event/rocker-covers-duo/
CATEGORIES:Entertainment
END:VEVENT
BEGIN:VEVENT
DTSTART;TZID=UTC:20251129T200000
DTEND;TZID=UTC:20251129T200000
DTSTAMP:20260424T081609
CREATED:20251008T021353Z
LAST-MODIFIED:20251013T034040Z
UID:10000328-1764446400-1764446400@www.windsorleagues.com.au
SUMMARY:The Endangered Species Pub Rock Band
DESCRIPTION:
URL:https://www.windsorleagues.com.au/event/the-endangered-species-pub-rock-band/
CATEGORIES:Entertainment
END:VEVENT
BEGIN:VEVENT
DTSTART;TZID=UTC:20251130T180000
DTEND;TZID=UTC:20251130T180000
DTSTAMP:20260424T081609
CREATED:20251031T041413Z
LAST-MODIFIED:20251031T041413Z
UID:10000337-1764525600-1764525600@www.windsorleagues.com.au
SUMMARY:Christmas Toy Raffle
DESCRIPTION:
URL:https://www.windsorleagues.com.au/event/christmas-toy-raffle/
CATEGORIES:Entertainment
END:VEVENT
BEGIN:VEVENT
DTSTART;TZID=UTC:20251206T203000
DTEND;TZID=UTC:20251206T203000
DTSTAMP:20260424T081609
CREATED:20251008T021716Z
LAST-MODIFIED:20251015T024751Z
UID:10000331-1765053000-1765053000@www.windsorleagues.com.au
SUMMARY:The Frocks
DESCRIPTION:
URL:https://www.windsorleagues.com.au/event/the-frocks-4/
CATEGORIES:Entertainment
END:VEVENT
BEGIN:VEVENT
DTSTART;TZID=UTC:20251213T200000
DTEND;TZID=UTC:20251213T200000
DTSTAMP:20260424T081609
CREATED:20251015T021218Z
LAST-MODIFIED:20251021T023841Z
UID:10000332-1765656000-1765656000@www.windsorleagues.com.au
SUMMARY:Roxteady Trio
DESCRIPTION:From 8pm – FREE
URL:https://www.windsorleagues.com.au/event/dec-roxteady-trio/
CATEGORIES:Entertainment
END:VEVENT
BEGIN:VEVENT
DTSTART;TZID=UTC:20251220T200000
DTEND;TZID=UTC:20251220T200000
DTSTAMP:20260424T081609
CREATED:20251015T021244Z
LAST-MODIFIED:20251021T023836Z
UID:10000333-1766260800-1766260800@www.windsorleagues.com.au
SUMMARY:Mojo rising
DESCRIPTION:From 8pm – FREE
URL:https://www.windsorleagues.com.au/event/dec-mojo-rising/
CATEGORIES:Entertainment
END:VEVENT
BEGIN:VEVENT
DTSTART;TZID=UTC:20251227T200000
DTEND;TZID=UTC:20251227T200000
DTSTAMP:20260424T081609
CREATED:20251015T021311Z
LAST-MODIFIED:20251021T023834Z
UID:10000334-1766865600-1766865600@www.windsorleagues.com.au
SUMMARY:Weekend Juliet Duo
DESCRIPTION:From 8pm – FREE
URL:https://www.windsorleagues.com.au/event/dec-weekend-juliet-duo/
CATEGORIES:Entertainment
END:VEVENT
BEGIN:VEVENT
DTSTART;TZID=UTC:20251231T210000
DTEND;TZID=UTC:20251231T210000
DTSTAMP:20260424T081609
CREATED:20251008T021557Z
LAST-MODIFIED:20251015T021554Z
UID:10000329-1767214800-1767214800@www.windsorleagues.com.au
SUMMARY:X Mentals Show
DESCRIPTION:
URL:https://www.windsorleagues.com.au/event/x-mentals-show/
CATEGORIES:Entertainment
END:VEVENT
BEGIN:VEVENT
DTSTART;TZID=UTC:20260131T203000
DTEND;TZID=UTC:20260131T203000
DTSTAMP:20260424T081609
CREATED:20251205T043018Z
LAST-MODIFIED:20251209T024925Z
UID:10000338-1769891400-1769891400@www.windsorleagues.com.au
SUMMARY:The Frocks
DESCRIPTION:
URL:https://www.windsorleagues.com.au/event/the-frocks-5/
CATEGORIES:Entertainment
END:VEVENT
BEGIN:VEVENT
DTSTART;TZID=UTC:20260217T113000
DTEND;TZID=UTC:20260217T113000
DTSTAMP:20260424T081609
CREATED:20251008T021251Z
LAST-MODIFIED:20260130T105445Z
UID:10000326-1771327800-1771327800@www.windsorleagues.com.au
SUMMARY:Hey\, Hey It's Tuesday - NOW SOLD OUT
DESCRIPTION:
URL:https://www.windsorleagues.com.au/event/hey-hey-its-tuesday-3/
CATEGORIES:Entertainment
END:VEVENT
BEGIN:VEVENT
DTSTART;TZID=UTC:20260221T200000
DTEND;TZID=UTC:20260221T200000
DTSTAMP:20260424T081609
CREATED:20260209T014051Z
LAST-MODIFIED:20260209T014051Z
UID:10000341-1771704000-1771704000@www.windsorleagues.com.au
SUMMARY:The Hype Boys
DESCRIPTION:
URL:https://www.windsorleagues.com.au/event/the-hype-boys/
CATEGORIES:Entertainment
END:VEVENT
BEGIN:VEVENT
DTSTART;TZID=UTC:20260226T000000
DTEND;TZID=UTC:20260226T000000
DTSTAMP:20260424T081609
CREATED:20260212T050519Z
LAST-MODIFIED:20260212T053041Z
UID:10000344-1772064000-1772064000@www.windsorleagues.com.au
SUMMARY:Musical Bingo
DESCRIPTION:
URL:https://www.windsorleagues.com.au/event/musical-bingo/
CATEGORIES:Entertainment
END:VEVENT
BEGIN:VEVENT
DTSTART;VALUE=DATE:20260301
DTEND;VALUE=DATE:20260302
DTSTAMP:20260424T081609
CREATED:20260219T010559Z
LAST-MODIFIED:20260219T010559Z
UID:10000346-1772323200-1772409599@www.windsorleagues.com.au
SUMMARY:Footy Tipping Comp 2026
DESCRIPTION:
URL:https://www.windsorleagues.com.au/event/footy-tipping-comp-2026/
CATEGORIES:Entertainment
END:VEVENT
BEGIN:VEVENT
DTSTART;VALUE=DATE:20260301
DTEND;VALUE=DATE:20260302
DTSTAMP:20260424T081609
CREATED:20260223T031637Z
LAST-MODIFIED:20260223T041940Z
UID:10000347-1772323200-1772409599@www.windsorleagues.com.au
SUMMARY:Watch every second of NRL Vegas 2026 live on the big screens at Windsor Leagues Sunday 1st March
DESCRIPTION:NRL Vegas 2026 – Live & Loud! \nCatch every second of NRL action from Allegiant Stadium\, Las Vegas LIVE on the big screens at Windsor Leagues Club!\nSoak up the atmosphere\, grab a cold drink\, settle in with your mates\, and don’t miss a moment as the NRL takes over Vegas for another epic showdown. \nSunday 1st March\nWindsor Leagues Club\nSchedule:\n11am – Super League Hull KR vs Leeds Rhinos\n1.15pm – Newcastle Knights vs North Queensland Toyota Cowboys\n3.30pm – Canterbury-Bankstown Bulldogs vs St George Illawarra Dragons \nRound up your mates and join us for a festival of footy straight from the sports and entertainment capital of the world\, Las Vegas. \n \n  \n\n\nReserved a Table
URL:https://www.windsorleagues.com.au/event/watch-every-second-of-nrl-vegas-2026-live-on-the-big-screens-at-windsor-leagues-sunday-1st-march/
CATEGORIES:Entertainment
END:VEVENT
BEGIN:VEVENT
DTSTART;VALUE=DATE:20260314
DTEND;VALUE=DATE:20260315
DTSTAMP:20260424T081609
CREATED:20260119T014003Z
LAST-MODIFIED:20260119T014003Z
UID:10000339-1773446400-1773532799@www.windsorleagues.com.au
SUMMARY:The RADIATORS
DESCRIPTION:
URL:https://www.windsorleagues.com.au/event/the-radiators/
CATEGORIES:Entertainment
END:VEVENT
BEGIN:VEVENT
DTSTART;TZID=UTC:20260317T113000
DTEND;TZID=UTC:20260317T113000
DTSTAMP:20260424T081609
CREATED:20251008T020858Z
LAST-MODIFIED:20260212T053917Z
UID:10000321-1773747000-1773747000@www.windsorleagues.com.au
SUMMARY:Hey\, Hey It's Tuesday
DESCRIPTION: 
URL:https://www.windsorleagues.com.au/event/hey-hey-its-tuesday-4/
CATEGORIES:Entertainment
END:VEVENT
BEGIN:VEVENT
DTSTART;TZID=UTC:20260328T203000
DTEND;TZID=UTC:20260328T203000
DTSTAMP:20260424T081609
CREATED:20260219T010430Z
LAST-MODIFIED:20260219T010430Z
UID:10000345-1774729800-1774729800@www.windsorleagues.com.au
SUMMARY:Jack Jones Solo Acoustic Performance
DESCRIPTION:
URL:https://www.windsorleagues.com.au/event/jack-jones-solo-acoustic-performance/
CATEGORIES:Entertainment
END:VEVENT
BEGIN:VEVENT
DTSTART;TZID=UTC:20260329T163000
DTEND;TZID=UTC:20260329T163000
DTSTAMP:20260424T081609
CREATED:20260211T031654Z
LAST-MODIFIED:20260211T031712Z
UID:10000343-1774801800-1774801800@www.windsorleagues.com.au
SUMMARY:Major Easter Raffle
DESCRIPTION:
URL:https://www.windsorleagues.com.au/event/major-easter-raffle/
CATEGORIES:Entertainment
END:VEVENT
BEGIN:VEVENT
DTSTART;TZID=UTC:20260402T173000
DTEND;TZID=UTC:20260402T173000
DTSTAMP:20260424T081609
CREATED:20260211T031636Z
LAST-MODIFIED:20260211T031636Z
UID:10000342-1775151000-1775151000@www.windsorleagues.com.au
SUMMARY:Easter Seafood Raffle
DESCRIPTION:
URL:https://www.windsorleagues.com.au/event/easter-seafood-raffle/
CATEGORIES:Entertainment
END:VEVENT
BEGIN:VEVENT
DTSTART;TZID=UTC:20260411T203000
DTEND;TZID=UTC:20260411T203000
DTSTAMP:20260424T081609
CREATED:20260122T015938Z
LAST-MODIFIED:20260122T015938Z
UID:10000340-1775939400-1775939400@www.windsorleagues.com.au
SUMMARY:The Frocks
DESCRIPTION:
URL:https://www.windsorleagues.com.au/event/the-frocks-6/
CATEGORIES:Entertainment
END:VEVENT
BEGIN:VEVENT
DTSTART;VALUE=DATE:20260421
DTEND;VALUE=DATE:20260422
DTSTAMP:20260424T081609
CREATED:20260318T001200Z
LAST-MODIFIED:20260318T001213Z
UID:10000352-1776729600-1776815999@www.windsorleagues.com.au
SUMMARY:Hey\, Hey\, Its Tuesday Hosted by Peter Paki
DESCRIPTION:
URL:https://www.windsorleagues.com.au/event/hey-hey-its-tuesday-hosted-by-peter-paki/
CATEGORIES:Entertainment
END:VEVENT
BEGIN:VEVENT
DTSTART;TZID=UTC:20260430T193000
DTEND;TZID=UTC:20260430T193000
DTSTAMP:20260424T081609
CREATED:20260225T042732Z
LAST-MODIFIED:20260327T021231Z
UID:10000350-1777577400-1777577400@www.windsorleagues.com.au
SUMMARY:MUSICAL BINGO
DESCRIPTION:Please Note NEW DATE – Thursday 19th March \n \n\nReserved a Table
URL:https://www.windsorleagues.com.au/event/musical-bingo-2/
CATEGORIES:Entertainment
END:VEVENT
BEGIN:VEVENT
DTSTART;TZID=UTC:20260502T203000
DTEND;TZID=UTC:20260502T203000
DTSTAMP:20260424T081609
CREATED:20260224T021314Z
LAST-MODIFIED:20260224T021338Z
UID:10000348-1777753800-1777753800@www.windsorleagues.com.au
SUMMARY:Brock County
DESCRIPTION:Reserved a Table
URL:https://www.windsorleagues.com.au/event/brock-county/
CATEGORIES:Entertainment
END:VEVENT
BEGIN:VEVENT
DTSTART;TZID=UTC:20260519T103000
DTEND;TZID=UTC:20260519T103000
DTSTAMP:20260424T081609
CREATED:20260421T042850Z
LAST-MODIFIED:20260421T042850Z
UID:10000353-1779186600-1779186600@www.windsorleagues.com.au
SUMMARY:Hey\, Hey\, Its Tuesday Hosted by Peter Paki
DESCRIPTION:
URL:https://www.windsorleagues.com.au/event/hey-hey-its-tuesday-hosted-by-peter-paki-2/
CATEGORIES:Entertainment
END:VEVENT
BEGIN:VEVENT
DTSTART;TZID=UTC:20260529T203000
DTEND;TZID=UTC:20260529T203000
DTSTAMP:20260424T081609
CREATED:20260225T042433Z
LAST-MODIFIED:20260225T042522Z
UID:10000349-1780086600-1780086600@www.windsorleagues.com.au
SUMMARY:Jellybean Jam
DESCRIPTION:Reserved a Table
URL:https://www.windsorleagues.com.au/event/jellybean-jam/
CATEGORIES:Entertainment
END:VEVENT
BEGIN:VEVENT
DTSTART;TZID=UTC:20260724T203000
DTEND;TZID=UTC:20260724T203000
DTSTAMP:20260424T081609
CREATED:20260302T021521Z
LAST-MODIFIED:20260302T021557Z
UID:10000351-1784925000-1784925000@www.windsorleagues.com.au
SUMMARY:The Angels Tribute Show
DESCRIPTION:Reserved a Table
URL:https://www.windsorleagues.com.au/event/the-angels-tribute-show/
CATEGORIES:Entertainment
END:VEVENT
END:VCALENDAR